Package: dyebias Version: 1.67.0 Command: rm -rf dyebias.buildbin-libdir && mkdir dyebias.buildbin-libdir && /Users/biocbuild/BBS/utils/build-universal.sh dyebias_1.67.0.tar.gz /Library/Frameworks/R.framework/Resources/bin/R dyebias.buildbin-libdir StartedAt: 2025-02-03 22:48:52 -0500 (Mon, 03 Feb 2025) EndedAt: 2025-02-03 22:48:55 -0500 (Mon, 03 Feb 2025) EllapsedTime: 3.1 seconds RetCode: 0 Status: OK PackageFile: dyebias_1.67.0.tgz PackageFileSize: 2.292 MiB