Package: dyebias Version: 1.67.0 Command: /Library/Frameworks/R.framework/Resources/bin/R CMD check --install=check:dyebias.install-out.txt --library=/Library/Frameworks/R.framework/Resources/library --no-vignettes --timings dyebias_1.67.0.tar.gz StartedAt: 2025-02-03 19:39:56 -0500 (Mon, 03 Feb 2025) EndedAt: 2025-02-03 19:40:17 -0500 (Mon, 03 Feb 2025) EllapsedTime: 21.2 seconds RetCode: 0 Status: OK CheckDir: dyebias.Rcheck Warnings: 0