Package: dyebias Version: 1.67.0 Command: /Library/Frameworks/R.framework/Resources/bin/R CMD INSTALL dyebias StartedAt: 2025-02-03 15:39:03 -0500 (Mon, 03 Feb 2025) EndedAt: 2025-02-03 15:39:05 -0500 (Mon, 03 Feb 2025) EllapsedTime: 2.2 seconds RetCode: 0 Status: OK