Package: dyebias Version: 1.67.0 Command: /home/biocbuild/R/R/bin/R CMD build --keep-empty-dirs --no-resave-data dyebias StartedAt: 2025-01-28 22:37:05 -0000 (Tue, 28 Jan 2025) EndedAt: 2025-01-28 22:37:38 -0000 (Tue, 28 Jan 2025) EllapsedTime: 33.0 seconds RetCode: 0 Status: OK PackageFile: dyebias_1.67.0.tar.gz PackageFileSize: 2.738 MiB