Package: dyebias Version: 1.67.0 Command: /home/biocbuild/R/R/bin/R CMD check --install=check:dyebias.install-out.txt --library=/home/biocbuild/R/R/site-library --no-vignettes --timings dyebias_1.67.0.tar.gz StartedAt: 2025-01-28 10:10:27 -0000 (Tue, 28 Jan 2025) EndedAt: 2025-01-28 10:11:20 -0000 (Tue, 28 Jan 2025) EllapsedTime: 53.0 seconds RetCode: 0 Status: OK CheckDir: dyebias.Rcheck Warnings: 0