Package: dyebias Version: 1.67.0 Command: /home/biocbuild/R/R/bin/R CMD INSTALL dyebias StartedAt: 2025-01-29 19:36:37 -0000 (Wed, 29 Jan 2025) EndedAt: 2025-01-29 19:37:02 -0000 (Wed, 29 Jan 2025) EllapsedTime: 24.6 seconds RetCode: 0 Status: OK