Package: dyebias Version: 1.67.0 Command: rm -rf dyebias.buildbin-libdir && mkdir dyebias.buildbin-libdir && /Users/biocbuild/BBS/utils/build-universal.sh dyebias_1.67.0.tar.gz /Library/Frameworks/R.framework/Resources/bin/R dyebias.buildbin-libdir StartedAt: 2025-02-05 00:38:04 -0500 (Wed, 05 Feb 2025) EndedAt: 2025-02-05 00:38:12 -0500 (Wed, 05 Feb 2025) EllapsedTime: 8.1 seconds RetCode: 0 Status: OK PackageFile: dyebias_1.67.0.tgz PackageFileSize: 2.291 MiB