Package: dyebias Version: 1.67.0 Command: /Library/Frameworks/R.framework/Resources/bin/R CMD INSTALL dyebias StartedAt: 2025-02-09 15:08:17 -0500 (Sun, 09 Feb 2025) EndedAt: 2025-02-09 15:08:41 -0500 (Sun, 09 Feb 2025) EllapsedTime: 23.9 seconds RetCode: 0 Status: OK