Package: dyebias Version: 1.67.0 Command: /home/biocbuild/bbs-3.21-bioc/R/bin/R CMD build --keep-empty-dirs --no-resave-data dyebias StartedAt: 2025-02-04 17:03:39 -0500 (Tue, 04 Feb 2025) EndedAt: 2025-02-04 17:04:04 -0500 (Tue, 04 Feb 2025) EllapsedTime: 25.1 seconds RetCode: 0 Status: OK PackageFile: dyebias_1.67.0.tar.gz PackageFileSize: 2.728 MiB