Package: dyebias Version: 1.67.0 Command: /home/biocbuild/bbs-3.21-bioc/R/bin/R CMD INSTALL dyebias StartedAt: 2025-02-09 15:13:09 -0500 (Sun, 09 Feb 2025) EndedAt: 2025-02-09 15:13:14 -0500 (Sun, 09 Feb 2025) EllapsedTime: 4.7 seconds RetCode: 0 Status: OK