Package: dyebias Version: 1.67.0 Command: rm -rf dyebias.buildbin-libdir && mkdir dyebias.buildbin-libdir && E:\biocbuild\bbs-3.21-bioc\R\bin\R.exe CMD INSTALL --build --library=dyebias.buildbin-libdir dyebias_1.67.0.tar.gz StartedAt: 2025-02-10 07:40:00 -0500 (Mon, 10 Feb 2025) EndedAt: 2025-02-10 07:40:13 -0500 (Mon, 10 Feb 2025) EllapsedTime: 13.4 seconds RetCode: 0 Status: OK PackageFile: dyebias_1.67.0.zip PackageFileSize: 2.062 MiB