Package: ecolitk Version: 1.79.0 Command: /Library/Frameworks/R.framework/Resources/bin/R CMD build --keep-empty-dirs --no-resave-data ecolitk StartedAt: 2025-02-09 16:12:50 -0500 (Sun, 09 Feb 2025) EndedAt: 2025-02-09 16:12:58 -0500 (Sun, 09 Feb 2025) EllapsedTime: 8.1 seconds RetCode: 0 Status: OK PackageFile: ecolitk_1.79.0.tar.gz PackageFileSize: 1.829 MiB