Package: ecolitk Version: 1.79.0 Command: /home/biocbuild/bbs-3.21-bioc/R/bin/R CMD build --keep-empty-dirs --no-resave-data ecolitk StartedAt: 2025-02-09 17:06:09 -0500 (Sun, 09 Feb 2025) EndedAt: 2025-02-09 17:06:25 -0500 (Sun, 09 Feb 2025) EllapsedTime: 16.0 seconds RetCode: 0 Status: OK PackageFile: ecolitk_1.79.0.tar.gz PackageFileSize: 1.829 MiB