Package: ecolitk Version: 1.79.0 Command: /home/biocbuild/bbs-3.21-bioc/R/bin/R CMD check --install=check:ecolitk.install-out.txt --library=/home/biocbuild/bbs-3.21-bioc/R/site-library --timings ecolitk_1.79.0.tar.gz StartedAt: 2025-02-09 21:59:45 -0500 (Sun, 09 Feb 2025) EndedAt: 2025-02-09 22:00:25 -0500 (Sun, 09 Feb 2025) EllapsedTime: 40.0 seconds RetCode: 0 Status: WARNINGS CheckDir: ecolitk.Rcheck Warnings: 1