Package: ecolitk Version: 1.79.0 Command: rm -rf ecolitk.buildbin-libdir && mkdir ecolitk.buildbin-libdir && E:\biocbuild\bbs-3.21-bioc\R\bin\R.exe CMD INSTALL --build --library=ecolitk.buildbin-libdir ecolitk_1.79.0.tar.gz StartedAt: 2025-02-10 07:40:21 -0500 (Mon, 10 Feb 2025) EndedAt: 2025-02-10 07:40:29 -0500 (Mon, 10 Feb 2025) EllapsedTime: 7.9 seconds RetCode: 0 Status: OK PackageFile: ecolitk_1.79.0.zip PackageFileSize: 1.733 MiB