Package: ecolitk Version: 1.79.0 Command: E:\biocbuild\bbs-3.21-bioc\R\bin\R.exe CMD check --no-multiarch --install=check:ecolitk.install-out.txt --library=E:\biocbuild\bbs-3.21-bioc\R\library --no-vignettes --timings ecolitk_1.79.0.tar.gz StartedAt: 2025-02-13 00:55:54 -0500 (Thu, 13 Feb 2025) EndedAt: 2025-02-13 00:56:40 -0500 (Thu, 13 Feb 2025) EllapsedTime: 46.0 seconds RetCode: 0 Status: WARNINGS CheckDir: ecolitk.Rcheck Warnings: 1