Package: ecolitk Version: 1.79.0 Command: E:\biocbuild\bbs-3.21-bioc\R\bin\R.exe CMD INSTALL ecolitk StartedAt: 2025-02-09 15:23:01 -0500 (Sun, 09 Feb 2025) EndedAt: 2025-02-09 15:23:15 -0500 (Sun, 09 Feb 2025) EllapsedTime: 13.8 seconds RetCode: 0 Status: OK