Package: eds Version: 1.9.0 Command: /Library/Frameworks/R.framework/Resources/bin/R CMD build --keep-empty-dirs --no-resave-data eds StartedAt: 2025-02-09 16:13:08 -0500 (Sun, 09 Feb 2025) EndedAt: 2025-02-09 16:13:14 -0500 (Sun, 09 Feb 2025) EllapsedTime: 6.1 seconds RetCode: 0 Status: OK PackageFile: eds_1.9.0.tar.gz PackageFileSize: 217.5 KiB