Package: eds Version: 1.9.0 Command: /Library/Frameworks/R.framework/Resources/bin/R CMD check --install=check:eds.install-out.txt --library=/Library/Frameworks/R.framework/Resources/library --no-vignettes --timings eds_1.9.0.tar.gz StartedAt: 2025-02-12 19:08:00 -0500 (Wed, 12 Feb 2025) EndedAt: 2025-02-12 19:08:21 -0500 (Wed, 12 Feb 2025) EllapsedTime: 20.2 seconds RetCode: 0 Status: OK CheckDir: eds.Rcheck Warnings: 0