Package: eds Version: 1.9.0 Command: /home/biocbuild/R/R/bin/R CMD check --install=check:eds.install-out.txt --library=/home/biocbuild/R/R/site-library --no-vignettes --timings eds_1.9.0.tar.gz StartedAt: 2025-01-28 10:13:58 -0000 (Tue, 28 Jan 2025) EndedAt: 2025-01-28 10:14:45 -0000 (Tue, 28 Jan 2025) EllapsedTime: 47.0 seconds RetCode: 0 Status: OK CheckDir: eds.Rcheck Warnings: 0