Package: eds Version: 1.9.0 Command: rm -rf eds.buildbin-libdir && mkdir eds.buildbin-libdir && /Users/biocbuild/BBS/utils/build-universal.sh eds_1.9.0.tar.gz /Library/Frameworks/R.framework/Resources/bin/R eds.buildbin-libdir StartedAt: 2025-02-10 00:51:52 -0500 (Mon, 10 Feb 2025) EndedAt: 2025-02-10 00:52:10 -0500 (Mon, 10 Feb 2025) EllapsedTime: 17.2 seconds RetCode: 0 Status: OK PackageFile: eds_1.9.0.tgz PackageFileSize: 257.6 KiB