Package: eds Version: 1.9.0 Command: /Library/Frameworks/R.framework/Resources/bin/R CMD build --keep-empty-dirs --no-resave-data eds StartedAt: 2025-02-09 16:38:57 -0500 (Sun, 09 Feb 2025) EndedAt: 2025-02-09 16:39:13 -0500 (Sun, 09 Feb 2025) EllapsedTime: 16.0 seconds RetCode: 0 Status: OK PackageFile: eds_1.9.0.tar.gz PackageFileSize: 217.2 KiB