Package: eds Version: 1.9.0 Command: /Library/Frameworks/R.framework/Resources/bin/R CMD check --install=check:eds.install-out.txt --library=/Library/Frameworks/R.framework/Resources/library --no-vignettes --timings eds_1.9.0.tar.gz StartedAt: 2025-02-09 20:29:46 -0500 (Sun, 09 Feb 2025) EndedAt: 2025-02-09 20:30:40 -0500 (Sun, 09 Feb 2025) EllapsedTime: 53.3 seconds RetCode: 0 Status: OK CheckDir: eds.Rcheck Warnings: 0