Package: eds Version: 1.9.0 Command: /home/biocbuild/bbs-3.21-bioc/R/bin/R CMD build --keep-empty-dirs --no-resave-data eds StartedAt: 2025-02-09 17:06:29 -0500 (Sun, 09 Feb 2025) EndedAt: 2025-02-09 17:06:42 -0500 (Sun, 09 Feb 2025) EllapsedTime: 13.0 seconds RetCode: 0 Status: OK PackageFile: eds_1.9.0.tar.gz PackageFileSize: 217.3 KiB