Package: eds Version: 1.9.0 Command: /home/biocbuild/bbs-3.21-bioc/R/bin/R CMD check --install=check:eds.install-out.txt --library=/home/biocbuild/bbs-3.21-bioc/R/site-library --timings eds_1.9.0.tar.gz StartedAt: 2025-02-12 21:59:11 -0500 (Wed, 12 Feb 2025) EndedAt: 2025-02-12 21:59:50 -0500 (Wed, 12 Feb 2025) EllapsedTime: 39.0 seconds RetCode: 0 Status: OK CheckDir: eds.Rcheck Warnings: 0