Package: eiR Version: 1.47.1 Maintainer: Thomas Girke MaintainerEmail: thomas.girke at ucr.edu git_url: https://git.bioconductor.org/packages/eiR git_branch: devel git_last_commit: 5af151f git_last_commit_date: 2025-02-11 10:36:11 -0500 (Tue, 11 Feb 2025)