Package: eiR Version: 1.47.1 Command: chmod a+r eiR -R && E:\biocbuild\bbs-3.21-bioc\R\bin\R.exe CMD build --keep-empty-dirs --no-resave-data eiR StartedAt: 2025-02-12 18:34:31 -0500 (Wed, 12 Feb 2025) EndedAt: 2025-02-12 18:35:18 -0500 (Wed, 12 Feb 2025) EllapsedTime: 47.1 seconds RetCode: 0 Status: OK PackageFile: eiR_1.47.1.tar.gz PackageFileSize: 675.5 KiB