Package: eisaR Version: 1.19.0 Maintainer: Michael Stadler MaintainerEmail: michael.stadler at fmi.ch git_url: https://git.bioconductor.org/packages/eisaR git_branch: devel git_last_commit: 8254299 git_last_commit_date: 2025-01-06 07:32:58 -0500 (Mon, 06 Jan 2025)