Package: eisaR Version: 1.19.0 Command: /home/biocbuild/bbs-3.21-bioc/R/bin/R CMD build --keep-empty-dirs --no-resave-data eisaR StartedAt: 2025-02-09 17:06:35 -0500 (Sun, 09 Feb 2025) EndedAt: 2025-02-09 17:08:04 -0500 (Sun, 09 Feb 2025) EllapsedTime: 89.1 seconds RetCode: 0 Status: OK PackageFile: eisaR_1.19.0.tar.gz PackageFileSize: 1.909 MiB