Package: eisaR Version: 1.19.0 Command: /home/biocbuild/bbs-3.21-bioc/R/bin/R CMD check --install=check:eisaR.install-out.txt --library=/home/biocbuild/bbs-3.21-bioc/R/site-library --timings eisaR_1.19.0.tar.gz StartedAt: 2025-02-09 22:00:39 -0500 (Sun, 09 Feb 2025) EndedAt: 2025-02-09 22:05:51 -0500 (Sun, 09 Feb 2025) EllapsedTime: 312.4 seconds RetCode: 0 Status: OK CheckDir: eisaR.Rcheck Warnings: 0