Package: eisaR Version: 1.19.0 Command: rm -rf eisaR.buildbin-libdir && mkdir eisaR.buildbin-libdir && E:\biocbuild\bbs-3.21-bioc\R\bin\R.exe CMD INSTALL --build --library=eisaR.buildbin-libdir eisaR_1.19.0.tar.gz StartedAt: 2025-02-10 07:40:42 -0500 (Mon, 10 Feb 2025) EndedAt: 2025-02-10 07:41:35 -0500 (Mon, 10 Feb 2025) EllapsedTime: 53.7 seconds RetCode: 0 Status: OK PackageFile: eisaR_1.19.0.zip PackageFileSize: 1.461 MiB