Package: eisaR Version: 1.19.0 Command: E:\biocbuild\bbs-3.21-bioc\R\bin\R.exe CMD check --no-multiarch --install=check:eisaR.install-out.txt --library=E:\biocbuild\bbs-3.21-bioc\R\library --no-vignettes --timings eisaR_1.19.0.tar.gz StartedAt: 2025-02-10 00:47:14 -0500 (Mon, 10 Feb 2025) EndedAt: 2025-02-10 00:52:06 -0500 (Mon, 10 Feb 2025) EllapsedTime: 291.5 seconds RetCode: 0 Status: OK CheckDir: eisaR.Rcheck Warnings: 0