Package: eisaR Version: 1.19.0 Command: E:\biocbuild\bbs-3.21-bioc\R\bin\R.exe CMD INSTALL eisaR StartedAt: 2025-02-09 16:07:42 -0500 (Sun, 09 Feb 2025) EndedAt: 2025-02-09 16:08:08 -0500 (Sun, 09 Feb 2025) EllapsedTime: 25.8 seconds RetCode: 0 Status: OK