Package: enhancerHomologSearch Version: 1.13.2 Command: rm -rf enhancerHomologSearch.buildbin-libdir && mkdir enhancerHomologSearch.buildbin-libdir && /Users/biocbuild/BBS/utils/build-universal.sh enhancerHomologSearch_1.13.2.tar.gz /Library/Frameworks/R.framework/Resources/bin/R enhancerHomologSearch.buildbin-libdir StartedAt: 2025-02-10 22:15:02 -0500 (Mon, 10 Feb 2025) EndedAt: 2025-02-10 22:16:40 -0500 (Mon, 10 Feb 2025) EllapsedTime: 98.2 seconds RetCode: 0 Status: OK PackageFile: enhancerHomologSearch_1.13.2.tgz PackageFileSize: 1.886 MiB