Package: enhancerHomologSearch Version: 1.13.2 Command: /Library/Frameworks/R.framework/Resources/bin/R CMD build --keep-empty-dirs --no-resave-data enhancerHomologSearch StartedAt: 2025-02-10 16:13:43 -0500 (Mon, 10 Feb 2025) EndedAt: 2025-02-10 16:20:42 -0500 (Mon, 10 Feb 2025) EllapsedTime: 419.4 seconds RetCode: 0 Status: OK PackageFile: enhancerHomologSearch_1.13.2.tar.gz PackageFileSize: 1.043 MiB