Package: enhancerHomologSearch Version: 1.13.2 Command: /Library/Frameworks/R.framework/Resources/bin/R CMD check --install=check:enhancerHomologSearch.install-out.txt --library=/Library/Frameworks/R.framework/Resources/library --no-vignettes --timings enhancerHomologSearch_1.13.2.tar.gz StartedAt: 2025-02-10 19:06:00 -0500 (Mon, 10 Feb 2025) EndedAt: 2025-02-10 19:11:15 -0500 (Mon, 10 Feb 2025) EllapsedTime: 314.7 seconds RetCode: 0 Status: OK CheckDir: enhancerHomologSearch.Rcheck Warnings: 0