Package: enhancerHomologSearch Version: 1.13.2 Command: /Library/Frameworks/R.framework/Resources/bin/R CMD INSTALL enhancerHomologSearch StartedAt: 2025-02-10 15:11:39 -0500 (Mon, 10 Feb 2025) EndedAt: 2025-02-10 15:13:06 -0500 (Mon, 10 Feb 2025) EllapsedTime: 87.1 seconds RetCode: 0 Status: OK