Package: enhancerHomologSearch Version: 1.13.2 Command: /home/biocbuild/R/R/bin/R CMD build --keep-empty-dirs --no-resave-data enhancerHomologSearch StartedAt: 2025-01-28 22:40:08 -0000 (Tue, 28 Jan 2025) EndedAt: 2025-01-28 23:02:45 -0000 (Tue, 28 Jan 2025) EllapsedTime: 1357.6 seconds RetCode: 0 Status: OK PackageFile: enhancerHomologSearch_1.13.2.tar.gz PackageFileSize: 1.107 MiB