Package: enhancerHomologSearch Version: 1.13.2 Command: /home/biocbuild/R/R/bin/R CMD check --install=check:enhancerHomologSearch.install-out.txt --library=/home/biocbuild/R/R/site-library --no-vignettes --timings enhancerHomologSearch_1.13.2.tar.gz StartedAt: 2025-01-28 10:15:40 -0000 (Tue, 28 Jan 2025) EndedAt: 2025-01-28 10:31:41 -0000 (Tue, 28 Jan 2025) EllapsedTime: 961.0 seconds RetCode: 0 Status: OK CheckDir: enhancerHomologSearch.Rcheck Warnings: 0