Package: enhancerHomologSearch Version: 1.13.2 Command: /home/biocbuild/R/R/bin/R CMD INSTALL enhancerHomologSearch StartedAt: 2025-01-29 19:58:24 -0000 (Wed, 29 Jan 2025) EndedAt: 2025-01-29 20:05:42 -0000 (Wed, 29 Jan 2025) EllapsedTime: 437.8 seconds RetCode: 0 Status: OK