Package: enhancerHomologSearch Version: 1.13.2 Command: /Library/Frameworks/R.framework/Resources/bin/R CMD build --keep-empty-dirs --no-resave-data enhancerHomologSearch StartedAt: 2025-02-09 16:39:20 -0500 (Sun, 09 Feb 2025) EndedAt: 2025-02-09 16:53:11 -0500 (Sun, 09 Feb 2025) EllapsedTime: 831.5 seconds RetCode: 0 Status: OK PackageFile: enhancerHomologSearch_1.13.2.tar.gz PackageFileSize: 1.043 MiB