Package: enhancerHomologSearch Version: 1.13.2 Command: /Library/Frameworks/R.framework/Resources/bin/R CMD check --install=check:enhancerHomologSearch.install-out.txt --library=/Library/Frameworks/R.framework/Resources/library --no-vignettes --timings enhancerHomologSearch_1.13.2.tar.gz StartedAt: 2025-02-09 20:30:20 -0500 (Sun, 09 Feb 2025) EndedAt: 2025-02-09 20:44:39 -0500 (Sun, 09 Feb 2025) EllapsedTime: 859.2 seconds RetCode: 0 Status: OK CheckDir: enhancerHomologSearch.Rcheck Warnings: 0