Package: enhancerHomologSearch Version: 1.13.2 Command: /Library/Frameworks/R.framework/Resources/bin/R CMD INSTALL enhancerHomologSearch StartedAt: 2025-02-09 15:22:56 -0500 (Sun, 09 Feb 2025) EndedAt: 2025-02-09 15:28:33 -0500 (Sun, 09 Feb 2025) EllapsedTime: 336.0 seconds RetCode: 0 Status: OK