Package: enhancerHomologSearch Version: 1.13.2 Command: /home/biocbuild/bbs-3.21-bioc/R/bin/R CMD check --install=check:enhancerHomologSearch.install-out.txt --library=/home/biocbuild/bbs-3.21-bioc/R/site-library --timings enhancerHomologSearch_1.13.2.tar.gz StartedAt: 2025-02-10 22:10:20 -0500 (Mon, 10 Feb 2025) EndedAt: 2025-02-10 22:30:36 -0500 (Mon, 10 Feb 2025) EllapsedTime: 1216.6 seconds RetCode: 0 Status: OK CheckDir: enhancerHomologSearch.Rcheck Warnings: 0