Package: enhancerHomologSearch Version: 1.13.2 Command: /home/biocbuild/bbs-3.21-bioc/R/bin/R CMD INSTALL enhancerHomologSearch StartedAt: 2025-02-10 16:02:23 -0500 (Mon, 10 Feb 2025) EndedAt: 2025-02-10 16:06:55 -0500 (Mon, 10 Feb 2025) EllapsedTime: 272.3 seconds RetCode: 0 Status: OK