Package: enhancerHomologSearch Version: 1.13.2 Command: E:\biocbuild\bbs-3.21-bioc\R\bin\R.exe CMD check --no-multiarch --install=check:enhancerHomologSearch.install-out.txt --library=E:\biocbuild\bbs-3.21-bioc\R\library --no-vignettes --timings enhancerHomologSearch_1.13.2.tar.gz StartedAt: 2025-02-10 00:47:55 -0500 (Mon, 10 Feb 2025) EndedAt: 2025-02-10 01:22:05 -0500 (Mon, 10 Feb 2025) EllapsedTime: 2050.0 seconds RetCode: 0 Status: OK CheckDir: enhancerHomologSearch.Rcheck Warnings: 0