Package: enhancerHomologSearch Version: 1.13.2 Command: E:\biocbuild\bbs-3.21-bioc\R\bin\R.exe CMD INSTALL enhancerHomologSearch StartedAt: 2025-02-09 16:41:55 -0500 (Sun, 09 Feb 2025) EndedAt: 2025-02-09 16:52:09 -0500 (Sun, 09 Feb 2025) EllapsedTime: 613.3 seconds RetCode: 0 Status: OK