Package: enrichViewNet Version: 1.5.0 Command: /Library/Frameworks/R.framework/Resources/bin/R CMD build --keep-empty-dirs --no-resave-data enrichViewNet StartedAt: 2025-02-09 16:14:14 -0500 (Sun, 09 Feb 2025) EndedAt: 2025-02-09 16:14:39 -0500 (Sun, 09 Feb 2025) EllapsedTime: 25.2 seconds RetCode: 0 Status: OK PackageFile: enrichViewNet_1.5.0.tar.gz PackageFileSize: 4.396 MiB