Package: enrichViewNet Version: 1.5.0 Command: /Library/Frameworks/R.framework/Resources/bin/R CMD build --keep-empty-dirs --no-resave-data enrichViewNet StartedAt: 2025-02-04 16:36:48 -0500 (Tue, 04 Feb 2025) EndedAt: 2025-02-04 16:37:52 -0500 (Tue, 04 Feb 2025) EllapsedTime: 64.0 seconds RetCode: 0 Status: OK PackageFile: enrichViewNet_1.5.0.tar.gz PackageFileSize: 4.38 MiB