Package: enrichViewNet Version: 1.5.0 Command: /Library/Frameworks/R.framework/Resources/bin/R CMD check --install=check:enrichViewNet.install-out.txt --library=/Library/Frameworks/R.framework/Resources/library --no-vignettes --timings enrichViewNet_1.5.0.tar.gz StartedAt: 2025-02-04 20:18:42 -0500 (Tue, 04 Feb 2025) EndedAt: 2025-02-04 20:22:13 -0500 (Tue, 04 Feb 2025) EllapsedTime: 211.8 seconds RetCode: 0 Status: OK CheckDir: enrichViewNet.Rcheck Warnings: 0